BEGIN:VCALENDAR
VERSION:2.0
PRODID:-//Základní škola Šumperk, 8.května - ECPv6.15.11//NONSGML v1.0//EN
CALSCALE:GREGORIAN
METHOD:PUBLISH
X-WR-CALNAME:Základní škola Šumperk, 8.května
X-ORIGINAL-URL:https://www.hluchak.cz
X-WR-CALDESC:Akce na Základní škola Šumperk, 8.května
REFRESH-INTERVAL;VALUE=DURATION:PT1H
X-Robots-Tag:noindex
X-PUBLISHED-TTL:PT1H
BEGIN:VTIMEZONE
TZID:Europe/Prague
BEGIN:DAYLIGHT
TZOFFSETFROM:+0100
TZOFFSETTO:+0200
TZNAME:CEST
DTSTART:20200329T010000
END:DAYLIGHT
BEGIN:STANDARD
TZOFFSETFROM:+0200
TZOFFSETTO:+0100
TZNAME:CET
DTSTART:20201025T010000
END:STANDARD
BEGIN:DAYLIGHT
TZOFFSETFROM:+0100
TZOFFSETTO:+0200
TZNAME:CEST
DTSTART:20210328T010000
END:DAYLIGHT
BEGIN:STANDARD
TZOFFSETFROM:+0200
TZOFFSETTO:+0100
TZNAME:CET
DTSTART:20211031T010000
END:STANDARD
BEGIN:DAYLIGHT
TZOFFSETFROM:+0100
TZOFFSETTO:+0200
TZNAME:CEST
DTSTART:20220327T010000
END:DAYLIGHT
BEGIN:STANDARD
TZOFFSETFROM:+0200
TZOFFSETTO:+0100
TZNAME:CET
DTSTART:20221030T010000
END:STANDARD
END:VTIMEZONE
BEGIN:VEVENT
DTSTART;TZID=Europe/Prague:20211013T090000
DTEND;TZID=Europe/Prague:20211013T160000
DTSTAMP:20260422T204156
CREATED:20210924T113938Z
LAST-MODIFIED:20210924T113938Z
UID:18613-1634115600-1634140800@www.hluchak.cz
SUMMARY:Mezinárodní den archeologie
DESCRIPTION:Pavlínin dvůr \nod 9 hodin
URL:https://www.hluchak.cz/event/mezinarodni-den-archeologie/
END:VEVENT
BEGIN:VEVENT
DTSTART;TZID=Europe/Prague:20211013T110000
DTEND;TZID=Europe/Prague:20211013T130000
DTSTAMP:20260422T204156
CREATED:20210914T071419Z
LAST-MODIFIED:20210914T071419Z
UID:18448-1634122800-1634130000@www.hluchak.cz
SUMMARY:Beseda k volbě povolání\, 9.A
DESCRIPTION:Doprovod: pí uč. Rutarová \nv 11.15
URL:https://www.hluchak.cz/event/beseda-k-volbe-povolani-9-a/
END:VEVENT
BEGIN:VEVENT
DTSTART;TZID=Europe/Prague:20211013T133000
DTEND;TZID=Europe/Prague:20211013T150000
DTSTAMP:20260422T204156
CREATED:20210913T064243Z
LAST-MODIFIED:20210914T071306Z
UID:18432-1634131800-1634137200@www.hluchak.cz
SUMMARY:Beseda k volbě povolání\, 9.C
DESCRIPTION:doprovod: pí uč.  V. Pavlík \nve 13.30 hod.
URL:https://www.hluchak.cz/event/beseda-k-volbe-povolani-9-c/
END:VEVENT
END:VCALENDAR